BEGIN:VCALENDAR
VERSION:2.0
PRODID:-//69.163.179.189//NONSGML kigkonsult.se iCalcreator 2.26.9//
CALSCALE:GREGORIAN
METHOD:PUBLISH
X-FROM-URL:http://www.sdkc.org
X-WR-TIMEZONE:America/Los_Angeles
BEGIN:VTIMEZONE
TZID:America/Los_Angeles
X-LIC-LOCATION:America/Los_Angeles
BEGIN:STANDARD
DTSTART:20251102T020000
TZOFFSETFROM:-0700
TZOFFSETTO:-0800
RDATE:20261101T020000
TZNAME:PST
END:STANDARD
BEGIN:DAYLIGHT
DTSTART:20260308T020000
TZOFFSETFROM:-0800
TZOFFSETTO:-0700
RDATE:20270314T020000
TZNAME:PDT
END:DAYLIGHT
END:VTIMEZONE
BEGIN:VEVENT
UID:ai1ec-75@www.sdkc.org
DTSTAMP:20260420T194112Z
CATEGORIES;LANGUAGE=en-US:Paddle
CONTACT:
DESCRIPTION:<p>The Wednesday morning paddles out of Aqua Adventures typical
 ly go out the channel into the open ocean\, then go to the OB pier\, or tu
 rn north for a short distance.</p>\n<p>People with some experience\, or ha
 ve taken basic kayak lessons are welcome. Kayak\, paddle\, and life jacket
  rentals are $20 for the morning\, which lasts about 2 hours. Be at the Aq
 ua Adventure’s dock no later than 6:30 to get your equipment\, and someone
  there will help you with that. You pay when you return from the paddle\, 
 as someone will be at the shop by then.</p>
DTSTART;TZID=America/Los_Angeles:20230426T070000
DTEND;TZID=America/Los_Angeles:20230426T090000
LOCATION:Aqua Adventures
RRULE:FREQ=WEEKLY;BYDAY=WE;WKST=SU
SEQUENCE:0
SUMMARY:Wednesday Morning Workout Paddle
URL:http://www.sdkc.org/event/wednesday-morning-workout-paddle/
X-COST-TYPE:external
X-COST:Free
END:VEVENT
BEGIN:VEVENT
UID:ai1ec-3023@www.sdkc.org
DTSTAMP:20260420T194112Z
CATEGORIES;LANGUAGE=en-US:Paddle
CONTACT:
DESCRIPTION:
DTSTART;TZID=America/Los_Angeles:20230426T180000
DTEND;TZID=America/Los_Angeles:20230426T203000
LOCATION:Aqua Adventures
RRULE:FREQ=WEEKLY;BYDAY=WE;WKST=SU
SEQUENCE:0
SUMMARY:Evening Paddle
URL:http://www.sdkc.org/event/evening-paddle/
X-COST-TYPE:free
END:VEVENT
END:VCALENDAR
